BEGIN:VCALENDAR
VERSION:2.0
PRODID:-//ASET - ECPv6.15.20//NONSGML v1.0//EN
CALSCALE:GREGORIAN
METHOD:PUBLISH
X-WR-CALNAME:ASET
X-ORIGINAL-URL:https://www.asetonline.org
X-WR-CALDESC:Events for ASET
REFRESH-INTERVAL;VALUE=DURATION:PT1H
X-Robots-Tag:noindex
X-PUBLISHED-TTL:PT1H
BEGIN:VTIMEZONE
TZID:Europe/London
BEGIN:DAYLIGHT
TZOFFSETFROM:+0000
TZOFFSETTO:+0100
TZNAME:BST
DTSTART:20250330T010000
END:DAYLIGHT
BEGIN:STANDARD
TZOFFSETFROM:+0100
TZOFFSETTO:+0000
TZNAME:GMT
DTSTART:20251026T010000
END:STANDARD
BEGIN:DAYLIGHT
TZOFFSETFROM:+0000
TZOFFSETTO:+0100
TZNAME:BST
DTSTART:20260329T010000
END:DAYLIGHT
BEGIN:STANDARD
TZOFFSETFROM:+0100
TZOFFSETTO:+0000
TZNAME:GMT
DTSTART:20261025T010000
END:STANDARD
BEGIN:DAYLIGHT
TZOFFSETFROM:+0000
TZOFFSETTO:+0100
TZNAME:BST
DTSTART:20270328T010000
END:DAYLIGHT
BEGIN:STANDARD
TZOFFSETFROM:+0100
TZOFFSETTO:+0000
TZNAME:GMT
DTSTART:20271031T010000
END:STANDARD
END:VTIMEZONE
BEGIN:VEVENT
DTSTART;TZID=Europe/London:20260831T090000
DTEND;TZID=Europe/London:20260831T233000
DTSTAMP:20260423T091715
CREATED:20230920T135514Z
LAST-MODIFIED:20251023T161459Z
UID:8130-1788166800-1788219000@www.asetonline.org
SUMMARY:ASET Snapshot of Success closing date
DESCRIPTION:Students undertaking a placement\, internship or work experience in the 2025-2026 academic year\, could be eligible to enter the ASET Snapshot of Success Competition. There is a prize of £100 for the winner. \nClosing date for applications: 31st August 2026. \nFor full details click here.
URL:https://www.asetonline.org/event/snapshot-of-success-closing-date/
LOCATION:Online
CATEGORIES:Competition
ATTACH;FMTTYPE=image/jpeg:https://www.asetonline.org/wp-content/uploads/2025/10/snapshot.jpg
ORGANIZER;CN="ASET":MAILTO:aset@asetonline.org
END:VEVENT
END:VCALENDAR