BEGIN:VCALENDAR
VERSION:2.0
PRODID:-//ASET - ECPv6.15.17.1//NONSGML v1.0//EN
CALSCALE:GREGORIAN
METHOD:PUBLISH
X-WR-CALNAME:ASET
X-ORIGINAL-URL:https://www.asetonline.org
X-WR-CALDESC:Events for ASET
REFRESH-INTERVAL;VALUE=DURATION:PT1H
X-Robots-Tag:noindex
X-PUBLISHED-TTL:PT1H
BEGIN:VTIMEZONE
TZID:Europe/London
BEGIN:DAYLIGHT
TZOFFSETFROM:+0000
TZOFFSETTO:+0100
TZNAME:BST
DTSTART:20250330T010000
END:DAYLIGHT
BEGIN:STANDARD
TZOFFSETFROM:+0100
TZOFFSETTO:+0000
TZNAME:GMT
DTSTART:20251026T010000
END:STANDARD
BEGIN:DAYLIGHT
TZOFFSETFROM:+0000
TZOFFSETTO:+0100
TZNAME:BST
DTSTART:20260329T010000
END:DAYLIGHT
BEGIN:STANDARD
TZOFFSETFROM:+0100
TZOFFSETTO:+0000
TZNAME:GMT
DTSTART:20261025T010000
END:STANDARD
BEGIN:DAYLIGHT
TZOFFSETFROM:+0000
TZOFFSETTO:+0100
TZNAME:BST
DTSTART:20270328T010000
END:DAYLIGHT
BEGIN:STANDARD
TZOFFSETFROM:+0100
TZOFFSETTO:+0000
TZNAME:GMT
DTSTART:20271031T010000
END:STANDARD
END:VTIMEZONE
BEGIN:VEVENT
DTSTART;TZID=Europe/London:20260611T091500
DTEND;TZID=Europe/London:20260611T123000
DTSTAMP:20260420T100701
CREATED:20260210T122133Z
LAST-MODIFIED:20260210T122856Z
UID:11265-1781169300-1781181000@www.asetonline.org
SUMMARY:Leverage AI Within Your Placement Practice
DESCRIPTION:This ASET workshop will focus on how AI can be used and harnessed by ASET members\, typically placement practitioners\, in their day-to-day work. The session will cover the basics of AI\, with an introduction to robotic process automation\, getting started with building chatbots and will include our trainer’s hints and tips on how to get the most out of generative AI. With practical and engaging activities to get you started\, or implementing improvements\, with using AI there will be plenty to take away from the session.
URL:https://www.asetonline.org/event/leverage-ai-within-your-placement-practice-2/
LOCATION:Online
CATEGORIES:Online
ATTACH;FMTTYPE=image/jpeg:https://www.asetonline.org/wp-content/uploads/2023/09/knowledge-exchange.jpg
ORGANIZER;CN="ASET":MAILTO:aset@asetonline.org
END:VEVENT
END:VCALENDAR